BEGIN:VCALENDAR
VERSION:2.0
PRODID:-//ChamberMaster//Event Calendar 2.0//EN
METHOD:PUBLISH
X-PUBLISHED-TTL:P3D
REFRESH-INTERVAL:P3D
CALSCALE:GREGORIAN
BEGIN:VEVENT
DTSTART:20190814T191500Z
DTEND:20190814T204500Z
X-MICROSOFT-CDO-ALLDAYEVENT:FALSE
SUMMARY:GACC Board Meeting
DESCRIPTION:Standing board meeting.
X-ALT-DESC;FMTTYPE=text/html:<div>Standing board meeting.</div>\n
LOCATION:Village of Granville offices.
UID:e.180.11703
SEQUENCE:3
DTSTAMP:20260422T102723Z
URL:http://business.granvilleoh.com/events/details/gacc-board-meeting-08-14-2019-11703
END:VEVENT

END:VCALENDAR
