BEGIN:VCALENDAR
VERSION:2.0
PRODID:-//ChamberMaster//Event Calendar 2.0//EN
METHOD:PUBLISH
X-PUBLISHED-TTL:P3D
REFRESH-INTERVAL:P3D
CALSCALE:GREGORIAN
BEGIN:VEVENT
DTSTART:20191211T201500Z
DTEND:20191211T214500Z
X-MICROSOFT-CDO-ALLDAYEVENT:FALSE
SUMMARY:GACC Board Meeting
DESCRIPTION:Standing board meeting.
X-ALT-DESC;FMTTYPE=text/html:<div>Standing board meeting.</div>\n
LOCATION:Village of Granville offices.
UID:e.180.11707
SEQUENCE:3
DTSTAMP:20260422T161128Z
URL:http://business.granvilleoh.com/events/details/gacc-board-meeting-12-11-2019-11707
END:VEVENT

END:VCALENDAR
