BEGIN:VCALENDAR
VERSION:2.0
PRODID:-//ChamberMaster//Event Calendar 2.0//EN
METHOD:PUBLISH
X-PUBLISHED-TTL:P3D
REFRESH-INTERVAL:P3D
CALSCALE:GREGORIAN
BEGIN:VEVENT
DTSTART:20190109T130000Z
DTEND:20190109T190000Z
X-MICROSOFT-CDO-ALLDAYEVENT:FALSE
SUMMARY:GACC Board Meeting and Planning Retreat
DESCRIPTION:This is the first Board Meeting of the year and the session will include a strategic planning retreat to help the Board set it's goals and objectives for 2019.
X-ALT-DESC;FMTTYPE=text/html:This is the first Board Meeting of the year and the session will include a strategic planning retreat to help the Board set it&#39\;s goals and objectives for 2019.
LOCATION:Bryn Du Mansion - Carriage House 537 Jones Road Granville\, OH 43023
UID:e.180.11696
SEQUENCE:3
DTSTAMP:20260420T011335Z
URL:http://business.granvilleoh.com/events/details/gacc-board-meeting-and-planning-retreat-11696
END:VEVENT

END:VCALENDAR
