BEGIN:VCALENDAR
VERSION:2.0
PRODID:-//ChamberMaster//Event Calendar 2.0//EN
METHOD:PUBLISH
X-PUBLISHED-TTL:P3D
REFRESH-INTERVAL:P3D
CALSCALE:GREGORIAN
BEGIN:VEVENT
DTSTART:20180627T210000Z
DTEND:20180627T230000Z
X-MICROSOFT-CDO-ALLDAYEVENT:FALSE
SUMMARY:GACC Business After Hours at Middleton Senior Living
DESCRIPTION:Mingle with fellow GACC members and guests at our June After Hours event at Middleton Senior Living.  We'll gather in the Parlor/Lobby area of their new addition. Come and enjoy some light refreshments and be entertained by Rachel Clemente who is a Celtic harper and Granville resident!  Feel free to bring a friend. RSVP's requested please.
X-ALT-DESC;FMTTYPE=text/html:Mingle with fellow GACC members and guests at our June After Hours event at Middleton Senior Living.&nbsp\; We&#39\;ll gather in the Parlor/Lobby area of their new addition. Come and enjoy some light refreshments and be entertained by Rachel Clemente who is a Celtic harper and Granville resident!&nbsp\; Feel free to bring a friend. RSVP&#39\;s requested please.
LOCATION:Middleton Senior Living 1500 Weaver Drive Granville\, OH 43023 Enter the Cherry Street driveway (opposite Creno's) and park facing Cherry or in the rear of the building
UID:e.180.11976
SEQUENCE:3
DTSTAMP:20260419T153625Z
URL:http://business.granvilleoh.com/events/details/gacc-business-after-hours-at-middleton-senior-living-11976
END:VEVENT

END:VCALENDAR
