BEGIN:VCALENDAR
VERSION:2.0
PRODID:-//ChamberMaster//Event Calendar 2.0//EN
METHOD:PUBLISH
X-PUBLISHED-TTL:P3D
REFRESH-INTERVAL:P3D
CALSCALE:GREGORIAN
BEGIN:VEVENT
DTSTART:20181024T210000Z
DTEND:20181024T230000Z
X-MICROSOFT-CDO-ALLDAYEVENT:FALSE
SUMMARY:GACC Business After Hours at the Granville Inn
DESCRIPTION:Come mix and mingle with your fellow Chamber members at our October After Hours networking event.  We will gather in the Granville Inn's Carriage House space for light snacks and beverages.
X-ALT-DESC;FMTTYPE=text/html:Come mix and mingle with your fellow Chamber members at our October After Hours networking event.&nbsp\; We will gather in the Granville Inn&#39\;s Carriage House space for light snacks and beverages.
LOCATION:Granville Inn (in the Carriage House) 314 E. Broadway Granville\, OH 43023
UID:e.180.12180
SEQUENCE:3
DTSTAMP:20260419T211441Z
URL:http://business.granvilleoh.com/events/details/gacc-business-after-hours-at-the-granville-inn-12180
END:VEVENT

END:VCALENDAR
