BEGIN:VCALENDAR
VERSION:2.0
PRODID:-//ChamberMaster//Event Calendar 2.0//EN
METHOD:PUBLISH
X-PUBLISHED-TTL:P3D
REFRESH-INTERVAL:P3D
CALSCALE:GREGORIAN
BEGIN:VEVENT
DTSTART:20180712T200000Z
DTEND:20180712T213000Z
X-MICROSOFT-CDO-ALLDAYEVENT:FALSE
SUMMARY:GACC Lagers & Learning - "A Taste of Technology"
DESCRIPTION:Join us for our inaugural offering of a Lagers  & Learning talk entitled "A Taste of Technology" presented by AlphaLink Technologies.  This will be an informal talk on key elements of technology that are important for small businesses to understand.  Enjoy a cold beverage and a snack and learn what you need to know to help your small business succeed.  Your RSVP requested so we know how many to expect.
X-ALT-DESC;FMTTYPE=text/html:Join us for our inaugural offering of a Lagers&nbsp\; &amp\; Learning talk entitled &quot\;A Taste of Technology&quot\; presented by AlphaLink Technologies.&nbsp\; This will be an informal talk on key elements of technology that are important for small businesses to understand.&nbsp\; Enjoy a cold beverage and a snack and learn what you need to know to help your small business succeed.&nbsp\; Your RSVP requested so we know how many to expect.
LOCATION:The Granville Inn 314 East Broadway Granville\, OH 43023
UID:e.180.12078
SEQUENCE:3
DTSTAMP:20260419T170826Z
URL:http://business.granvilleoh.com/events/details/gacc-lagers-learning-a-taste-of-technology-12078
END:VEVENT

END:VCALENDAR
