BEGIN:VCALENDAR
VERSION:2.0
PRODID:-//ChamberMaster//Event Calendar 2.0//EN
METHOD:PUBLISH
X-PUBLISHED-TTL:P3D
REFRESH-INTERVAL:P3D
CALSCALE:GREGORIAN
BEGIN:VEVENT
DTSTART:20181110T183000Z
DTEND:20181110T191500Z
X-MICROSOFT-CDO-ALLDAYEVENT:FALSE
SUMMARY:Games with Clyde
DESCRIPTION:Clyde the Coyote presents his version of classic games like Simon Says and musical chairs. Grades K to 3.
X-ALT-DESC;FMTTYPE=text/html:Clyde the Coyote presents his version of classic games like Simon Says and musical chairs. Grades K to 3.
LOCATION:Granville Public Library
UID:e.180.12230
SEQUENCE:3
DTSTAMP:20260419T200314Z
URL:http://business.granvilleoh.com/events/details/games-with-clyde-12230
END:VEVENT

END:VCALENDAR
