BEGIN:VCALENDAR
VERSION:2.0
PRODID:-//ChamberMaster//Event Calendar 2.0//EN
METHOD:PUBLISH
X-PUBLISHED-TTL:P3D
REFRESH-INTERVAL:P3D
CALSCALE:GREGORIAN
BEGIN:VEVENT
DTSTART:20180619T190000Z
DTEND:20180619T200000Z
X-MICROSOFT-CDO-ALLDAYEVENT:FALSE
SUMMARY:Geology Rocks!
DESCRIPTION:Representatives from Denison University's Department of Geosciences will share their love of geology. Grades rising K to 6.
X-ALT-DESC;FMTTYPE=text/html:Representatives from Denison University&#39\;s Department of Geosciences will share their love of geology. Grades rising K to 6.
LOCATION:Granville Public Library
UID:e.180.12004
SEQUENCE:3
DTSTAMP:20260419T165332Z
URL:http://business.granvilleoh.com/events/details/geology-rocks-12004
END:VEVENT

END:VCALENDAR
