BEGIN:VCALENDAR
VERSION:2.0
PRODID:-//ChamberMaster//Event Calendar 2.0//EN
METHOD:PUBLISH
X-PUBLISHED-TTL:P3D
REFRESH-INTERVAL:P3D
CALSCALE:GREGORIAN
BEGIN:VEVENT
DTSTART:20180629T223000Z
DTEND:20180630T003000Z
X-MICROSOFT-CDO-ALLDAYEVENT:FALSE
SUMMARY:Get Jiggy With It: Puzzle Competition
DESCRIPTION:Compete for prizes in this fast-paced competition. Piece out! Grades 9 through Adult welcome!
X-ALT-DESC;FMTTYPE=text/html:Compete for prizes in this fast-paced competition. Piece out! Grades 9 through Adult welcome!
LOCATION:Granville Public Library
UID:e.180.12033
SEQUENCE:3
DTSTAMP:20260419T153047Z
URL:http://business.granvilleoh.com/events/details/get-jiggy-with-it-puzzle-competition-12033
END:VEVENT

END:VCALENDAR
