BEGIN:VCALENDAR
VERSION:2.0
PRODID:-//ChamberMaster//Event Calendar 2.0//EN
METHOD:PUBLISH
X-PUBLISHED-TTL:P3D
REFRESH-INTERVAL:P3D
CALSCALE:GREGORIAN
BEGIN:VEVENT
DTSTART:20180711T190000Z
DTEND:20180711T200000Z
X-MICROSOFT-CDO-ALLDAYEVENT:FALSE
SUMMARY:Get Rhythm with the Cup Game
DESCRIPTION:Learn and practice the cup game. Can you keep the rhythm? Rising grades 3 to 6.
X-ALT-DESC;FMTTYPE=text/html:Learn and practice the cup game. Can you keep the rhythm? Rising grades 3 to 6.
LOCATION:Granville Public Library
UID:e.180.12043
SEQUENCE:3
DTSTAMP:20260419T170652Z
URL:http://business.granvilleoh.com/events/details/get-rhythm-with-the-cup-game-12043
END:VEVENT

END:VCALENDAR
