BEGIN:VCALENDAR
VERSION:2.0
PRODID:-//ChamberMaster//Event Calendar 2.0//EN
METHOD:PUBLISH
X-PUBLISHED-TTL:P3D
REFRESH-INTERVAL:P3D
CALSCALE:GREGORIAN
BEGIN:VEVENT
DTSTART:20190918T140000Z
DTEND:20190918T160000Z
X-MICROSOFT-CDO-ALLDAYEVENT:FALSE
SUMMARY:GMS Book Club
DESCRIPTION:GMS students\, Join GPL's Emily Shellhouse\, Mrs. Bice\, and Mrs. Tallentire lead a lunch time book club. We provide the books. Join anytime! We meet in the GMS library. In September\, we'll be selecting books\, either "Ghost Boy" by Jewell Rhodes or "The War that Saved my Life" by Kimberly Brubaker Bradley or both\, to be discussed at the October meeting.
X-ALT-DESC;FMTTYPE=text/html:GMS students\, Join GPL&#39\;s Emily Shellhouse\, Mrs. Bice\, and Mrs. Tallentire lead a lunch time book club. We provide the books. Join anytime! We meet in the GMS library. In September\, we&#39\;ll be selecting books\, either &quot\;Ghost Boy&quot\; by Jewell Rhodes or &quot\;The War that Saved my Life&quot\; by Kimberly Brubaker Bradley or both\, to be discussed at the October meeting.
LOCATION:GMS Library
UID:e.180.12794
SEQUENCE:3
DTSTAMP:20260422T115554Z
URL:http://business.granvilleoh.com/events/details/gms-book-club-09-18-2019-12794
END:VEVENT

END:VCALENDAR
