BEGIN:VCALENDAR
VERSION:2.0
PRODID:-//ChamberMaster//Event Calendar 2.0//EN
METHOD:PUBLISH
X-PUBLISHED-TTL:P3D
REFRESH-INTERVAL:P3D
CALSCALE:GREGORIAN
BEGIN:VEVENT
DTSTART:20191016T140000Z
DTEND:20191016T160000Z
X-MICROSOFT-CDO-ALLDAYEVENT:FALSE
SUMMARY:GMS Book Club
DESCRIPTION:GMS students\, join GPL librarian Emily Shellhouse\, Mrs. Bice\, and Mrs. Tallentire for a lunch time book club. We provide the books. Join anytime! We meet in the GMS library. In October\, we'll be discussing either "Ghost Boy" by Jewell Rhodes or "The War that Saved my Life" by Kimberly Brubaker Bradley.
X-ALT-DESC;FMTTYPE=text/html:GMS students\, join GPL librarian Emily Shellhouse\, Mrs. Bice\, and Mrs. Tallentire for a lunch time book club. We provide the books. Join anytime! We meet in the GMS library. In October\, we&#39\;ll be discussing either &quot\;Ghost Boy&quot\; by Jewell Rhodes or &quot\;The War that Saved my Life&quot\; by Kimberly Brubaker Bradley.
LOCATION:GMS Library
UID:e.180.12852
SEQUENCE:3
DTSTAMP:20260422T131525Z
URL:http://business.granvilleoh.com/events/details/gms-book-club-10-16-2019-12852
END:VEVENT

END:VCALENDAR
