BEGIN:VCALENDAR
VERSION:2.0
PRODID:-//ChamberMaster//Event Calendar 2.0//EN
METHOD:PUBLISH
X-PUBLISHED-TTL:P3D
REFRESH-INTERVAL:P3D
CALSCALE:GREGORIAN
BEGIN:VEVENT
DTSTART:20191120T150000Z
DTEND:20191120T170000Z
X-MICROSOFT-CDO-ALLDAYEVENT:FALSE
SUMMARY:GMS Book Club
DESCRIPTION:GMS students\, join GPL librarian Emily Shellhouse\, Mrs. Bice\, and Mrs. Tallentire for a lunch time book club. We provide the books. Join anytime! We meet in the GMS library. In November\, we'll be discussing either "My Sister Rosa" by Justine Larbalestier. If you missed the last meeting\, you can get a copy from Mrs. Bice.
X-ALT-DESC;FMTTYPE=text/html:GMS students\, join GPL librarian Emily Shellhouse\, Mrs. Bice\, and Mrs. Tallentire for a lunch time book club. We provide the books. Join anytime! We meet in the GMS library. In November\, we&#39\;ll be discussing either &quot\;My Sister Rosa&quot\; by Justine Larbalestier. If you missed the last meeting\, you can get a copy from Mrs. Bice.
LOCATION:Granville Middle School Library
UID:e.180.13949
SEQUENCE:3
DTSTAMP:20260422T144258Z
URL:http://business.granvilleoh.com/events/details/gms-book-club-11-20-2019-13949
END:VEVENT

END:VCALENDAR
