BEGIN:VCALENDAR
VERSION:2.0
PRODID:-//ChamberMaster//Event Calendar 2.0//EN
METHOD:PUBLISH
X-PUBLISHED-TTL:P3D
REFRESH-INTERVAL:P3D
CALSCALE:GREGORIAN
BEGIN:VEVENT
DTSTART:20181114T150000Z
DTEND:20181114T170000Z
X-MICROSOFT-CDO-ALLDAYEVENT:FALSE
SUMMARY:GMS Book Club
DESCRIPTION:Join Mrs. Bice and GPL's Emily Shellhouse for book club at Granville Middle School! This month\, we're reading Wolf Hollow by Lauren Wolk. If you did not borrow a copy at the October meeting\, reserve one at GPL. Help choose upcoming books and borrow next month's title at the meeting.
X-ALT-DESC;FMTTYPE=text/html:Join Mrs. Bice and GPL&#39\;s Emily Shellhouse for book club at Granville Middle School! This month\, we&#39\;re reading Wolf Hollow by Lauren Wolk. If you did not borrow a copy at the October meeting\, reserve one at GPL. Help choose upcoming books and borrow next month&#39\;s title at the meeting.
LOCATION:Granville Middle School
UID:e.180.12234
SEQUENCE:3
DTSTAMP:20260419T222142Z
URL:http://business.granvilleoh.com/events/details/gms-book-club-12234
END:VEVENT

END:VCALENDAR
