BEGIN:VCALENDAR
VERSION:2.0
PRODID:-//ChamberMaster//Event Calendar 2.0//EN
METHOD:PUBLISH
X-PUBLISHED-TTL:P3D
REFRESH-INTERVAL:P3D
CALSCALE:GREGORIAN
BEGIN:VEVENT
DTSTART:20180913T230000Z
DTEND:20180914T013000Z
X-MICROSOFT-CDO-ALLDAYEVENT:FALSE
SUMMARY:Goodspeed Lecture: Rebecca Todd Peters
DESCRIPTION:Denison University's Goodspeed Lecture Series welcomes Rebecca Todd Peters\, a professor of religious studies from Elon University.
X-ALT-DESC;FMTTYPE=text/html:<span style="background-color:transparent\; color:rgb(0\, 0\, 0)\; font-family:arial\; font-size:11pt">Denison University&rsquo\;s Goodspeed Lecture Series welcomes Rebecca Todd Peters\, a professor of religious studies from Elon University.</span>
LOCATION:Slayter Union Auditorium 200 Ridge Road
UID:e.180.12122
SEQUENCE:3
DTSTAMP:20260419T193549Z
URL:http://business.granvilleoh.com/events/details/goodspeed-lecture-rebecca-todd-peters-12122
END:VEVENT

END:VCALENDAR
