BEGIN:VCALENDAR
VERSION:2.0
PRODID:-//ChamberMaster//Event Calendar 2.0//EN
METHOD:PUBLISH
X-PUBLISHED-TTL:P3D
REFRESH-INTERVAL:P3D
CALSCALE:GREGORIAN
BEGIN:VEVENT
DTSTART:20190221T000000Z
DTEND:20190221T010000Z
X-MICROSOFT-CDO-ALLDAYEVENT:FALSE
SUMMARY:Goodspeed Lecture Series: Andrea Jain
DESCRIPTION:Denison University's Goodspeed Lecture Series welcomes Andrea Jain presenting her lecture "Peace Love and Yoga": The Politics of Global Spirituality.
X-ALT-DESC;FMTTYPE=text/html:<span style="color:rgb(0\, 0\, 0)\; font-family:arial\; font-size:14.6667px">Denison University&rsquo\;s Goodspeed Lecture Series welcomes Andrea Jain presenting her lecture &ldquo\;Peace Love and Yoga&rdquo\;: The Politics of Global Spirituality.</span>
LOCATION:Denison University Burton D. Morgan Center 150 Ridge Road
UID:e.180.12193
SEQUENCE:3
DTSTAMP:20260420T022626Z
URL:http://business.granvilleoh.com/events/details/goodspeed-lecture-series-andrea-jain-12193
END:VEVENT

END:VCALENDAR
