BEGIN:VCALENDAR
VERSION:2.0
PRODID:-//ChamberMaster//Event Calendar 2.0//EN
METHOD:PUBLISH
X-PUBLISHED-TTL:P3D
REFRESH-INTERVAL:P3D
CALSCALE:GREGORIAN
BEGIN:VEVENT
DTSTART:20190306T003000Z
DTEND:20190306T013000Z
X-MICROSOFT-CDO-ALLDAYEVENT:FALSE
SUMMARY:Goodspeed Lecture Series: Becky Thompson
DESCRIPTION:Denison University's Goodspeed Lecture Series welcomes Becky Thompson professor of sociology at Simmons University\, presenting her lecture "Born to Belonging: Transnational Feminist Alliances."\n\nIn her talk\, "Born to Belonging: Transnational Feminist Alliances" Thompson focuses on recent transnational activism on women's issues that sees beyond nation and distance to create a new politics of possibilities.\n\n?Thompson is a scholar\, activist\, and poet. She is the author of many books including "Teaching with Tenderness\," "Survivors on the Yoga Mat\," "When the Center is on Fire\," "A Promise and a "Way of Life." Her most recent book is the new "Making Mirrors: Righting/Writing by and for Refugees."
X-ALT-DESC;FMTTYPE=text/html:<p><span style="font-family:arial\; font-size:14.6667px">Denison University&rsquo\;s Goodspeed Lecture Series welcomes Becky Thompson&nbsp\;</span><span style="font-family:arial\; font-size:11pt">professor of sociology at Simmons University\, </span><span style="font-family:arial\; font-size:14.6667px">presenting her lecture &ldquo\;Born to Belonging: Transnational Feminist Alliances.&quot\;</span></p>\n\n<p><span style="font-family:arial\; font-size:11pt">In her talk\, &ldquo\;Born to Belonging: Transnational Feminist Alliances&rdquo\; Thompson focuses on recent transnational activism on women&rsquo\;s issues that sees beyond nation and distance to create a new politics of possibilities.</span></p>\n\n<p><span style="background-color:transparent\; font-family:arial\; font-size:11pt">?</span><span style="background-color:transparent\; font-family:arial\; font-size:11pt">Thompson is a scholar\, activist\, and poet. She is the author of many books including &ldquo\;Teaching with Tenderness\,&rdquo\; &ldquo\;Survivors on the Yoga Mat\,&rdquo\; &ldquo\;When the Center is on Fire\,&rdquo\; &ldquo\;A Promise and a &ldquo\;Way of Life.&rdquo\; Her most recent book is the new &ldquo\;Making Mirrors: Righting/Writing by and for Refugees.&rdquo\;</span></p>\n\n<div>&nbsp\;</div>\n
LOCATION:Denison University Slayter Union\, Auditorium 200 Ridge Road
UID:e.180.12272
SEQUENCE:3
DTSTAMP:20260420T035607Z
URL:http://business.granvilleoh.com/events/details/goodspeed-lecture-series-becky-thompson-12272
END:VEVENT

END:VCALENDAR
