BEGIN:VCALENDAR
VERSION:2.0
PRODID:-//ChamberMaster//Event Calendar 2.0//EN
METHOD:PUBLISH
X-PUBLISHED-TTL:P3D
REFRESH-INTERVAL:P3D
CALSCALE:GREGORIAN
BEGIN:VEVENT
DTSTART:20180630T210000Z
DTEND:20180701T000000Z
X-MICROSOFT-CDO-ALLDAYEVENT:FALSE
SUMMARY:Granville Art Walk
DESCRIPTION:Each month\, creative businesses and non-profits join forces for a public event that promotes commerce and art in the Granville community.
X-ALT-DESC;FMTTYPE=text/html:Each month\, creative businesses and non-profits join forces for a public event that promotes commerce and art in the Granville community.&nbsp\;&nbsp\;
LOCATION:Downtown Granville and vicinity
UID:e.180.12056
SEQUENCE:3
DTSTAMP:20260419T153152Z
URL:http://business.granvilleoh.com/events/details/granville-art-walk-12056
END:VEVENT

END:VCALENDAR
