BEGIN:VCALENDAR
VERSION:2.0
PRODID:-//ChamberMaster//Event Calendar 2.0//EN
METHOD:PUBLISH
X-PUBLISHED-TTL:P3D
REFRESH-INTERVAL:P3D
CALSCALE:GREGORIAN
BEGIN:VEVENT
DTSTART:20190906T210000Z
DTEND:20190907T000000Z
X-MICROSOFT-CDO-ALLDAYEVENT:FALSE
SUMMARY:Granville Art Walk
DESCRIPTION:Join us for this special FRIDAY edition of Granville's Art Walk...a monthly public event that promotes business and art in the community!\n\n\n\nA monthly flyer will list specific venues\, exhibits\, and opportunities.
X-ALT-DESC;FMTTYPE=text/html:Join us for this special FRIDAY edition of Granville&#39\;s Art Walk...a monthly public event that promotes business and art in the community!<br />\n<br />\nA monthly flyer will list specific venues\, exhibits\, and opportunities.
LOCATION:Downtown Granville
UID:e.180.12806
SEQUENCE:3
DTSTAMP:20260422T115508Z
URL:http://business.granvilleoh.com/events/details/granville-art-walk-12806
END:VEVENT

END:VCALENDAR
