BEGIN:VCALENDAR
VERSION:2.0
PRODID:-//ChamberMaster//Event Calendar 2.0//EN
METHOD:PUBLISH
X-PUBLISHED-TTL:P3D
REFRESH-INTERVAL:P3D
CALSCALE:GREGORIAN
BEGIN:VEVENT
DTSTART:20180625T130000Z
DTEND:20180629T150000Z
X-MICROSOFT-CDO-ALLDAYEVENT:FALSE
SUMMARY:Granville Christian Basketball Camp
DESCRIPTION:Granville Christian Basketball Camp June 25-29\, for kids in grades K -7th. For those who want to learn a new sport\, or fine-tune the skills they already have\, new GCA Athletic Director Ellis Gallion has put together a special FIVE day basketball camp. See school website for more details.
X-ALT-DESC;FMTTYPE=text/html:Granville Christian Basketball Camp June 25-29\, for kids in grades K -7th. For those who want to learn a new sport\, or fine-tune the skills they already have\, new GCA Athletic Director Ellis Gallion has put together a special FIVE day basketball camp. See school website for more details.
LOCATION:GCA's Fifth Street Gym in Newark
UID:e.180.12013
SEQUENCE:3
DTSTAMP:20260419T153624Z
URL:http://business.granvilleoh.com/events/details/granville-christian-basketball-camp-12013
END:VEVENT

END:VCALENDAR
