BEGIN:VCALENDAR
VERSION:2.0
PRODID:-//ChamberMaster//Event Calendar 2.0//EN
METHOD:PUBLISH
X-PUBLISHED-TTL:P3D
REFRESH-INTERVAL:P3D
CALSCALE:GREGORIAN
BEGIN:VEVENT
DTSTART:20180613T130000Z
DTEND:20180615T153000Z
X-MICROSOFT-CDO-ALLDAYEVENT:FALSE
SUMMARY:Granville Christian Golf Camp
DESCRIPTION:Granville Christian Golf Camp June 13-15\, for 1st - 6th grade students. For those who want to learn a new sport\, or fine-tune the skills they already have\, new GCA Athletic Director Ellis Gallion has put together a special three day golf camp. See school website for more details.
X-ALT-DESC;FMTTYPE=text/html:Granville Christian Golf Camp June 13-15\, for 1st - 6th grade students. For those who want to learn a new sport\, or fine-tune the skills they already have\, new GCA Athletic Director Ellis Gallion has put together a special three day golf camp. See school website for more details.
LOCATION:Denison Golf Course
UID:e.180.12012
SEQUENCE:3
DTSTAMP:20260419T170405Z
URL:http://business.granvilleoh.com/events/details/granville-christian-golf-camp-12012
END:VEVENT

END:VCALENDAR
