BEGIN:VCALENDAR
VERSION:2.0
PRODID:-//ChamberMaster//Event Calendar 2.0//EN
METHOD:PUBLISH
X-PUBLISHED-TTL:P3D
REFRESH-INTERVAL:P3D
CALSCALE:GREGORIAN
BEGIN:VEVENT
DTSTART:20180606T133000Z
DTEND:20180608T160000Z
X-MICROSOFT-CDO-ALLDAYEVENT:FALSE
SUMMARY:Granville Christian Soccer Camp
DESCRIPTION:For those who want to learn a new sport\, or fine-tune the skills they already have\, new GCA Athletic Director Ellis Gallion has put together a special three day soccer camp. See school website for more details.
X-ALT-DESC;FMTTYPE=text/html:For those who want to learn a new sport\, or fine-tune the skills they already have\, new GCA Athletic Director Ellis Gallion has put together a special three day soccer camp. See school website for more details.
LOCATION:Granville Christian Academy\, 1820 Newark Granville Rd.\, Granville
UID:e.180.12011
SEQUENCE:3
DTSTAMP:20260419T153527Z
URL:http://business.granvilleoh.com/events/details/granville-christian-soccer-camp-12011
END:VEVENT

END:VCALENDAR
