BEGIN:VCALENDAR
VERSION:2.0
PRODID:-//ChamberMaster//Event Calendar 2.0//EN
METHOD:PUBLISH
X-PUBLISHED-TTL:P3D
REFRESH-INTERVAL:P3D
CALSCALE:GREGORIAN
BEGIN:VEVENT
DTSTART:20180712T013000Z
DTEND:20180713T160000Z
X-MICROSOFT-CDO-ALLDAYEVENT:FALSE
SUMMARY:Granville Christian Track Camp
DESCRIPTION:Granville Christian Track Camp July 11-13\, for kids in K ? 7th grades.  For those who want to learn a new sport\, or fine-tune the skills they already have\, new GCA Athletic Director Ellis Gallion has put together a special three day TRACK camp.  See school website for more details.
X-ALT-DESC;FMTTYPE=text/html:Granville Christian Track Camp July 11-13\, for kids in K ? 7th grades.  For those who want to learn a new sport\, or fine-tune the skills they already have\, new GCA Athletic Director Ellis Gallion has put together a special three day TRACK camp.  See school website for more details.
LOCATION:Granville HS Track
UID:e.180.12014
SEQUENCE:3
DTSTAMP:20260419T182231Z
URL:http://business.granvilleoh.com/events/details/granville-christian-track-camp-12014
END:VEVENT

END:VCALENDAR
