BEGIN:VCALENDAR
VERSION:2.0
PRODID:-//ChamberMaster//Event Calendar 2.0//EN
METHOD:PUBLISH
X-PUBLISHED-TTL:P3D
REFRESH-INTERVAL:P3D
CALSCALE:GREGORIAN
BEGIN:VEVENT
DTSTART:20180718T133000Z
DTEND:20180721T030000Z
X-MICROSOFT-CDO-ALLDAYEVENT:FALSE
SUMMARY:Granville Christian Volleyball Camp
DESCRIPTION:Granville Christian Volleyball Camp\, July 18-20\, for kids in K   7th grades. For those who want to learn a new sport\, or fine-tune the skills they already have\, new GCA Athletic Director Ellis Gallion has put together a special three day VOLLEYBALL camp. See school website for more details.
X-ALT-DESC;FMTTYPE=text/html:Granville Christian Volleyball Camp\, July 18-20\, for kids in K &ndash\; 7th grades. For those who want to learn a new sport\, or fine-tune the skills they already have\, new GCA Athletic Director Ellis Gallion has put together a special three day VOLLEYBALL camp. See school website for more details.
LOCATION:Camp is at the GCA gym\, downtown Newark.
UID:e.180.12015
SEQUENCE:3
DTSTAMP:20260419T171202Z
URL:http://business.granvilleoh.com/events/details/granville-christian-volleyball-camp-12015
END:VEVENT

END:VCALENDAR
