BEGIN:VCALENDAR
VERSION:2.0
PRODID:-//ChamberMaster//Event Calendar 2.0//EN
METHOD:PUBLISH
X-PUBLISHED-TTL:P3D
REFRESH-INTERVAL:P3D
CALSCALE:GREGORIAN
BEGIN:VEVENT
DTSTART:20180512T123000Z
DTEND:20180512T160000Z
X-MICROSOFT-CDO-ALLDAYEVENT:FALSE
SUMMARY:Granville Farmers Market
DESCRIPTION:Join us each Saturday from 8:30am-noon for the Granville Farmers Market's 25th season!  Recognized as one of central Ohio's best\, browse nearly 60 vendors for the best of local produce\, baked goods\, flowers and more.\n\n\n\nGet full details at granvillefarmersmarket.com
X-ALT-DESC;FMTTYPE=text/html:Join us each Saturday from 8:30am-noon for the Granville Farmers Market's&nbsp\;25th&nbsp\;season!&nbsp\; Recognized as one of central Ohio's best\, browse nearly 60 vendors for the best of local produce\, baked goods\, flowers and more.<br>\n<br>\nGet full details at granvillefarmersmarket.com
LOCATION:Most Saturdays - N. Main at Broadway Some Saturdays (May 19\, July 7 & 21\, September 1) - parking lot of St. Edward's Catholic Church
UID:e.180.11949
SEQUENCE:3
DTSTAMP:20260421T095210Z
URL:http://business.granvilleoh.com/events/details/granville-farmers-market-05-12-2018-11949
END:VEVENT

END:VCALENDAR
