BEGIN:VCALENDAR
VERSION:2.0
PRODID:-//ChamberMaster//Event Calendar 2.0//EN
METHOD:PUBLISH
X-PUBLISHED-TTL:P3D
REFRESH-INTERVAL:P3D
CALSCALE:GREGORIAN
BEGIN:VEVENT
DTSTART:20180809T230000Z
DTEND:20180810T010000Z
X-MICROSOFT-CDO-ALLDAYEVENT:FALSE
SUMMARY:Granville Farmers Market at "25": History and Shared Memories
DESCRIPTION:On Thursday evening\, August 9th\, the Granville Historical Society in cooperation with the Granville Chamber of Commerce will present a program for the community in celebration of the 25th anniversary of the Granville Farmers Market.  The evening's program will include reflections by members of the village who were instrumental in the formation of the market in 1993. Members of the farming community in Licking County who have participated as vendors\, and the current Market Master will add their perspectives of the Market's evolution through the years.\n\nThe remainder of the evening will be devoted to hearing residents relate their recollections of Market events\, family memories of "market" Saturday mornings\, and the building of community relationships provided by market activity.\n\n"The Granville Farmers Market: History and Recollections" will take place in Auditorium 115 in the Burton Morgan Building on the Denison University campus. The program will begin at 7:00 with time after the formal program for informal discussion and light refreshments. Parking will be available in the parking garage under Slayter Hall with signs directing guests to the program venue in Burton Morgan Hall. The event is handicap accessible.
X-ALT-DESC;FMTTYPE=text/html:<p class="Textbody" style="margin-bottom:10.0pt\;text-align:justify\;text-justify:\ninter-ideograph\;line-height:136%"><span style="font-family:&quot\;Garamond&quot\;\,&quot\;serif&quot\;\;\ncolor:black">On Thursday evening\, August 9th\, the Granville Historical Society i</span><span style="font-family:&quot\;Garamond&quot\;\,&quot\;serif&quot\;\;color:#222222">n cooperation with the Granville Chamber of Commerce </span><span style="font-family:&quot\;Garamond&quot\;\,&quot\;serif&quot\;\;color:black">will present a program for the community in celebration of the 25th anniversary of the Granville Farmers Market. &nbsp\;The evening&rsquo\;s program will include reflections by members of the village who were instrumental in the formation of the market in 1993. Members of the farming community in Licking County who have participated as vendors\, and the current Market Master will add their perspectives of the Market&rsquo\;s evolution through the years.</span><o:p></o:p></p>\n\n<p class="Textbody" style="margin-bottom:10.0pt\;text-align:justify\;text-justify:\ninter-ideograph\;line-height:136%"><span style="font-family:&quot\;Garamond&quot\;\,&quot\;serif&quot\;\;\ncolor:black">The remainder of the evening will be devoted to hearing residents relate their recollections of Market events\, family memories of &ldquo\;market&rdquo\; Saturday mornings\, and the building of community relationships provided by market activity.<o:p></o:p></span></p>\n\n<p class="Textbody" style="margin-bottom:10.0pt\;text-align:justify\;text-justify:\ninter-ideograph\;line-height:136%"><span style="font-family:&quot\;Garamond&quot\;\,&quot\;serif&quot\;\;\ncolor:black">&ldquo\;The Granville Farmers Market: History and Recollections&rdquo\; will take place in Auditorium 115 in the Burton Morgan Building on the Denison University campus. The program will begin at 7:00 with time after the formal program for informal discussion and light refreshments. Parking will be available in the parking garage under Slayter Hall with signs directing guests to the program venue in Burton Morgan Hall. The event is handicap accessible.<o:p></o:p></span></p>\n
LOCATION:Burton Morgan Hall 115 Denison University
UID:e.180.12097
SEQUENCE:3
DTSTAMP:20260419T182944Z
URL:http://business.granvilleoh.com/events/details/granville-farmers-market-at-25-history-and-shared-memories-12097
END:VEVENT

END:VCALENDAR
