BEGIN:VCALENDAR
VERSION:2.0
PRODID:-//ChamberMaster//Event Calendar 2.0//EN
METHOD:PUBLISH
X-PUBLISHED-TTL:P3D
REFRESH-INTERVAL:P3D
CALSCALE:GREGORIAN
BEGIN:VEVENT
DTSTART:20190923T150000Z
DTEND:20190923T173000Z
X-MICROSOFT-CDO-ALLDAYEVENT:FALSE
SUMMARY:Granville Food Adventures
DESCRIPTION:Teens\, join us for a journey to Italy without leaving Granville! Destination: Palumbo's Italian Market where you can try your hand at making bruschetta\, rocket salad\, tagliatelle pasta with red sauce\, and cannoli. Delizioso! Grades 7-12. Registration required at granvillelibrary.org/calendar
X-ALT-DESC;FMTTYPE=text/html:Teens\, join us for a journey to Italy without leaving Granville! Destination: Palumbo&#39\;s Italian Market where you can try your hand at making bruschetta\, rocket salad\, tagliatelle pasta with red sauce\, and cannoli. Delizioso! Grades 7-12. Registration required at granvillelibrary.org/calendar
LOCATION:Palumbo's Italian Market
UID:e.180.12819
SEQUENCE:3
DTSTAMP:20260422T115646Z
URL:http://business.granvilleoh.com/events/details/granville-food-adventures-12819
END:VEVENT

END:VCALENDAR
