BEGIN:VCALENDAR
VERSION:2.0
PRODID:-//ChamberMaster//Event Calendar 2.0//EN
METHOD:PUBLISH
X-PUBLISHED-TTL:P3D
REFRESH-INTERVAL:P3D
CALSCALE:GREGORIAN
BEGIN:VEVENT
DTSTART:20190518T160000Z
DTEND:20190518T223000Z
X-MICROSOFT-CDO-ALLDAYEVENT:FALSE
SUMMARY:Granville Jazz Fest
DESCRIPTION:Come play on the lawn of OSU Newark and COTC campus as you enjoy great jazz music by area schools. Bring blankets\, chairs\, lawn games\, and cash for admission and food trucks.
X-ALT-DESC;FMTTYPE=text/html:Come play on the lawn of OSU Newark and COTC campus as you enjoy great jazz music by area schools. Bring blankets\, chairs\, lawn games\, and cash for admission and food trucks.
LOCATION:Outdoors at The Ohio State University Newark and COTC campus lawn near the Martha Grace Reese Amphitheater. Rain location is in the OSUN/COTC Warner Center. Come rain or shine!
UID:e.180.12638
SEQUENCE:3
DTSTAMP:20260420T065203Z
URL:http://business.granvilleoh.com/events/details/granville-jazz-fest-05-18-2019-12638
END:VEVENT

END:VCALENDAR
