BEGIN:VCALENDAR
VERSION:2.0
PRODID:-//ChamberMaster//Event Calendar 2.0//EN
METHOD:PUBLISH
X-PUBLISHED-TTL:P3D
REFRESH-INTERVAL:P3D
CALSCALE:GREGORIAN
BEGIN:VEVENT
DTSTART:20190207T230000Z
DTEND:20190208T010000Z
X-MICROSOFT-CDO-ALLDAYEVENT:FALSE
SUMMARY:Granville Parent Co-op Preschool Enrollment Open House
DESCRIPTION:Join us for our annual enrollment open house. Bring your family for a tour of our classroom\, meet our teachers and parent run board and pick up your application for the 2019-2020 school year. * Inclement weather date February 12\, 2019 6-8 pm.
X-ALT-DESC;FMTTYPE=text/html:Join us for our annual enrollment open house. Bring your family for a tour of our classroom\, meet our teachers and parent run board and pick up your application for the 2019-2020 school year. * Inclement weather date February 12\, 2019 6-8 pm.
LOCATION:Granville Parent Co-op Preschool 119 W. Broadway Granville\, Ohio 43023
UID:e.180.12288
SEQUENCE:3
DTSTAMP:20260420T023200Z
URL:http://business.granvilleoh.com/events/details/granville-parent-co-op-preschool-enrollment-open-house-12288
END:VEVENT

END:VCALENDAR
