BEGIN:VCALENDAR
VERSION:2.0
PRODID:-//ChamberMaster//Event Calendar 2.0//EN
METHOD:PUBLISH
X-PUBLISHED-TTL:P3D
REFRESH-INTERVAL:P3D
CALSCALE:GREGORIAN
BEGIN:VEVENT
DTSTART:20190123T233000Z
DTEND:20190124T003000Z
X-MICROSOFT-CDO-ALLDAYEVENT:FALSE
SUMMARY:Granville's Test Kitchen
DESCRIPTION:We are cooking from "Half Baked Harvest" by Teighan Gerard. Select a recipe to try and bring a sample to share with 10-12 people.
X-ALT-DESC;FMTTYPE=text/html:We are cooking from &quot\;Half Baked Harvest&quot\; by Teighan Gerard. Select a recipe to try and bring a sample to share with 10-12 people.
LOCATION:Granville Public Library
UID:e.180.12297
SEQUENCE:3
DTSTAMP:20260420T010120Z
URL:http://business.granvilleoh.com/events/details/granville-s-test-kitchen-01-23-2019-12297
END:VEVENT

END:VCALENDAR
