BEGIN:VCALENDAR
VERSION:2.0
PRODID:-//ChamberMaster//Event Calendar 2.0//EN
METHOD:PUBLISH
X-PUBLISHED-TTL:P3D
REFRESH-INTERVAL:P3D
CALSCALE:GREGORIAN
BEGIN:VEVENT
DTSTART:20190319T223000Z
DTEND:20190319T233000Z
X-MICROSOFT-CDO-ALLDAYEVENT:FALSE
SUMMARY:Granville's Test Kitchen
DESCRIPTION:We're cooking from Dorie Greenspan's "Everyday Dorie: The Way I Cook". Try a recipe\, bring a sample to share with 10-12 people\, and come enjoy taste testing other recipes and discussing what worked well and what didn't. Copies of the book are available at the main desk for checkout.
X-ALT-DESC;FMTTYPE=text/html:We&#39\;re cooking from Dorie Greenspan&#39\;s &quot\;Everyday Dorie: The Way I Cook&quot\;. Try a recipe\, bring a sample to share with 10-12 people\, and come enjoy taste testing other recipes and discussing what worked well and what didn&#39\;t. Copies of the book are available at the main desk for checkout.
LOCATION:Granville Public Library
UID:e.180.12507
SEQUENCE:3
DTSTAMP:20260420T034905Z
URL:http://business.granvilleoh.com/events/details/granville-s-test-kitchen-03-19-2019-12507
END:VEVENT

END:VCALENDAR
