BEGIN:VCALENDAR
VERSION:2.0
PRODID:-//ChamberMaster//Event Calendar 2.0//EN
METHOD:PUBLISH
X-PUBLISHED-TTL:P3D
REFRESH-INTERVAL:P3D
CALSCALE:GREGORIAN
BEGIN:VEVENT
DTSTART:20190522T223000Z
DTEND:20190522T233000Z
X-MICROSOFT-CDO-ALLDAYEVENT:FALSE
SUMMARY:Granville's Test Kitchen
DESCRIPTION:For this edition of Granville's Test Kitchen\, we'll be cooking from "Salt Fat Acid Heat: Mastering the Elements of Good Cooking" by Samin Nosrat. Pick a dish to try and then bring a sample for 10-12 people to share. You'll get to taste test a variety of recipes to find things you like while discussing the book. Copies are available at the main desk of the library.
X-ALT-DESC;FMTTYPE=text/html:For this edition of Granville&#39\;s Test Kitchen\, we&#39\;ll be cooking from &quot\;Salt Fat Acid Heat: Mastering the Elements of Good Cooking&quot\; by Samin Nosrat. Pick a dish to try and then bring a sample for 10-12 people to share. You&#39\;ll get to taste test a variety of recipes to find things you like while discussing the book. Copies are available at the main desk of the library.
LOCATION:Granville Public Library
UID:e.180.12605
SEQUENCE:3
DTSTAMP:20260420T075930Z
URL:http://business.granvilleoh.com/events/details/granville-s-test-kitchen-05-22-2019-12605
END:VEVENT

END:VCALENDAR
