BEGIN:VCALENDAR
VERSION:2.0
PRODID:-//ChamberMaster//Event Calendar 2.0//EN
METHOD:PUBLISH
X-PUBLISHED-TTL:P3D
REFRESH-INTERVAL:P3D
CALSCALE:GREGORIAN
BEGIN:VEVENT
DTSTART:20190724T223000Z
DTEND:20190724T233000Z
X-MICROSOFT-CDO-ALLDAYEVENT:FALSE
SUMMARY:Granville's Test Kitchen
DESCRIPTION:For this edition of Granville's Test Kitchen\, we'll be cooking from "Ottolenghi SIMPLE" by Yotum Ottolenghi which contains 120 new dishes showcasing inventive flavors with minimal labor. Pick a dish to try and then bring a sample for 10-12 people to share. You'll get to taste test a variety of recipes to find things you like while discussing the book.
X-ALT-DESC;FMTTYPE=text/html:For this edition of Granville&#39\;s Test Kitchen\, we&#39\;ll be cooking from &quot\;Ottolenghi SIMPLE&quot\; by Yotum Ottolenghi which contains 120 new dishes showcasing inventive flavors with minimal labor. Pick a dish to try and then bring a sample for 10-12 people to share. You&#39\;ll get to taste test a variety of recipes to find things you like while discussing the book.
LOCATION:Granville Public Library
UID:e.180.12737
SEQUENCE:3
DTSTAMP:20260422T085109Z
URL:http://business.granvilleoh.com/events/details/granville-s-test-kitchen-07-24-2019-12737
END:VEVENT

END:VCALENDAR
