BEGIN:VCALENDAR
VERSION:2.0
PRODID:-//ChamberMaster//Event Calendar 2.0//EN
METHOD:PUBLISH
X-PUBLISHED-TTL:P3D
REFRESH-INTERVAL:P3D
CALSCALE:GREGORIAN
BEGIN:VEVENT
DTSTART:20180725T223000Z
DTEND:20180725T233000Z
X-MICROSOFT-CDO-ALLDAYEVENT:FALSE
SUMMARY:Granville's Test Kitchen
DESCRIPTION:his month\, we'll be cooking from Elizabeth Heiskell's "What Can I Bring? Southern Recipes for Any Occasion Life Serves Up". You'll be prepared to help out a sick neighbor or head to the next potluck in style. Choose a recipe and bring a sample to share with 10-12 people. The evening is a delicious way to try lots of recipes\, find one you like\, and make some new friends. Feel free to join our Facebook Group\, Granville's Test Kitchen Cookbook Club\, to ask questions\, discuss experiences\, and share what you plan to bring. While variety is nice\, please feel free to bring a duplicate recipe if its something you want to try!
X-ALT-DESC;FMTTYPE=text/html:his month\, we&#39\;ll be cooking from Elizabeth Heiskell&#39\;s &quot\;What Can I Bring? Southern Recipes for Any Occasion Life Serves Up&quot\;. You&#39\;ll be prepared to help out a sick neighbor or head to the next potluck in style. Choose a recipe and bring a sample to share with 10-12 people. The evening is a delicious way to try lots of recipes\, find one you like\, and make some new friends. Feel free to join our Facebook Group\, Granville&#39\;s Test Kitchen Cookbook Club\, to ask questions\, discuss experiences\, and share what you plan to bring. While variety is nice\, please feel free to bring a duplicate recipe if its something you want to try!
LOCATION:Granville Public Library
UID:e.180.12069
SEQUENCE:3
DTSTAMP:20260419T170903Z
URL:http://business.granvilleoh.com/events/details/granville-s-test-kitchen-07-25-2018-12069
END:VEVENT

END:VCALENDAR
