BEGIN:VCALENDAR
VERSION:2.0
PRODID:-//ChamberMaster//Event Calendar 2.0//EN
METHOD:PUBLISH
X-PUBLISHED-TTL:P3D
REFRESH-INTERVAL:P3D
CALSCALE:GREGORIAN
BEGIN:VEVENT
DTSTART:20190925T223000Z
DTEND:20190925T233000Z
X-MICROSOFT-CDO-ALLDAYEVENT:FALSE
SUMMARY:Granville's Test Kitchen
DESCRIPTION:For this edition of Granville's Test Kitchen\, we'll be cooking from "Dinner for Everyone" by Mark Bittman which contains recipes done three ways\, easy\, vegan\, or perfect for company. Pick a dish to try and then bring a sample for 10-12 people to share. You'll get to taste test a variety of recipes to find things you like while discussing the book. Copies of the book are available at the main desk for checkout.
X-ALT-DESC;FMTTYPE=text/html:For this edition of Granville&#39\;s Test Kitchen\, we&#39\;ll be cooking from &quot\;Dinner for Everyone&quot\; by Mark Bittman which contains recipes done three ways\, easy\, vegan\, or perfect for company. Pick a dish to try and then bring a sample for 10-12 people to share. You&#39\;ll get to taste test a variety of recipes to find things you like while discussing the book. Copies of the book are available at the main desk for checkout.
LOCATION:Granville Public Library
UID:e.180.12797
SEQUENCE:3
DTSTAMP:20260422T115509Z
URL:http://business.granvilleoh.com/events/details/granville-s-test-kitchen-09-25-2019-12797
END:VEVENT

END:VCALENDAR
