BEGIN:VCALENDAR
VERSION:2.0
PRODID:-//ChamberMaster//Event Calendar 2.0//EN
METHOD:PUBLISH
X-PUBLISHED-TTL:P3D
REFRESH-INTERVAL:P3D
CALSCALE:GREGORIAN
BEGIN:VEVENT
DTSTART:20180926T223000Z
DTEND:20180926T233000Z
X-MICROSOFT-CDO-ALLDAYEVENT:FALSE
SUMMARY:Granville's Test Kitchen
DESCRIPTION:This month\, we'll be cooking from Deb Perelman's "The Smitten Kitchen Cookbook: Recipes and Wisdom from an Obsessive Home Cook". Find a new favorite recipe made from accessible ingredients and resulting in a meal of uncompromised quality. Choose a recipe and bring a sample to share with 10-12 people. The evening is a delicious way to try lots of recipes\, find one you like\, and make some new friends.
X-ALT-DESC;FMTTYPE=text/html:This month\, we&#39\;ll be cooking from Deb Perelman&#39\;s &quot\;The Smitten Kitchen Cookbook: Recipes and Wisdom from an Obsessive Home Cook&quot\;. Find a new favorite recipe made from accessible ingredients and resulting in a meal of uncompromised quality. Choose a recipe and bring a sample to share with 10-12 people. The evening is a delicious way to try lots of recipes\, find one you like\, and make some new friends.
LOCATION:Granville Public Library
UID:e.180.12116
SEQUENCE:3
DTSTAMP:20260419T193411Z
URL:http://business.granvilleoh.com/events/details/granville-s-test-kitchen-09-26-2018-12116
END:VEVENT

END:VCALENDAR
