BEGIN:VCALENDAR
VERSION:2.0
PRODID:-//ChamberMaster//Event Calendar 2.0//EN
METHOD:PUBLISH
X-PUBLISHED-TTL:P3D
REFRESH-INTERVAL:P3D
CALSCALE:GREGORIAN
BEGIN:VEVENT
DTSTART:20181107T233000Z
DTEND:20181108T003000Z
X-MICROSOFT-CDO-ALLDAYEVENT:FALSE
SUMMARY:Granville's Test Kitchen
DESCRIPTION:Are you a voracious reader? If so\, this book club is for you. Select a recipe to try from the cookbook of the month and bring a sample to taste with 10-12 people. November's Selection: All Time Best Holiday Entertaining by America's Test Kitchen. Copies are available at the circulation desk.
X-ALT-DESC;FMTTYPE=text/html:Are you a voracious reader? If so\, this book club is for you. Select a recipe to try from the cookbook of the month and bring a sample to taste with 10-12 people. November&#39\;s Selection: All Time Best Holiday Entertaining by America&#39\;s Test Kitchen. Copies are available at the circulation desk.
LOCATION:Granville Public Library
UID:e.180.12186
SEQUENCE:3
DTSTAMP:20260419T222622Z
URL:http://business.granvilleoh.com/events/details/granville-s-test-kitchen-11-07-2018-12186
END:VEVENT

END:VCALENDAR
