BEGIN:VCALENDAR
VERSION:2.0
PRODID:-//ChamberMaster//Event Calendar 2.0//EN
METHOD:PUBLISH
X-PUBLISHED-TTL:P3D
REFRESH-INTERVAL:P3D
CALSCALE:GREGORIAN
BEGIN:VEVENT
DTSTART:20191113T233000Z
DTEND:20191114T003000Z
X-MICROSOFT-CDO-ALLDAYEVENT:FALSE
SUMMARY:Granville's Test Kitchen
DESCRIPTION:For this edition of Granville's Test Kitchen\, we'll be cooking from "Set for the Holidays with Anna Olson". Whether you want to gift your neighbors White Chocolate Blueberry Scones\, take a new appetizer to share to a party\, or treat your family to Winter Sunshine Smoothies on a cold morning\, there is something fresh to try. Pick a dish to try and then bring a sample for 10-12 people to share. You'll get to taste test a variety of recipes to find things you like while discussing the book. Copies of the book are available at the main desk for checkout.
X-ALT-DESC;FMTTYPE=text/html:For this edition of Granville&#39\;s Test Kitchen\, we&#39\;ll be cooking from &quot\;Set for the Holidays with Anna Olson&quot\;. Whether you want to gift your neighbors White Chocolate Blueberry Scones\, take a new appetizer to share to a party\, or treat your family to Winter Sunshine Smoothies on a cold morning\, there is something fresh to try. Pick a dish to try and then bring a sample for 10-12 people to share. You&#39\;ll get to taste test a variety of recipes to find things you like while discussing the book. Copies of the book are available at the main desk for checkout.
LOCATION:Granville Public Library
UID:e.180.12896
SEQUENCE:3
DTSTAMP:20260422T144053Z
URL:http://business.granvilleoh.com/events/details/granville-s-test-kitchen-11-13-2019-12896
END:VEVENT

END:VCALENDAR
