BEGIN:VCALENDAR
VERSION:2.0
PRODID:-//ChamberMaster//Event Calendar 2.0//EN
METHOD:PUBLISH
X-PUBLISHED-TTL:P3D
REFRESH-INTERVAL:P3D
CALSCALE:GREGORIAN
BEGIN:VEVENT
DTSTART:20180530T223000Z
DTEND:20180530T233000Z
X-MICROSOFT-CDO-ALLDAYEVENT:FALSE
SUMMARY:Granville's Test Kitchen
DESCRIPTION:This month\, we'll be cooking from Ree Drummond's "The Pioneer Woman Cooks Dinnertime\; Comfort Classics\, Freezer Food\, 16-Minute Meals\, and Other Delicious Ways to Solve Supper". Choose a recipe and bring a sample to share with 10-12 people. The evening is a delicious way to try lots of recipes\, find one you like\, and make some new friends.
X-ALT-DESC;FMTTYPE=text/html:This month\, we&#39\;ll be cooking from Ree Drummond&#39\;s &quot\;The Pioneer Woman Cooks Dinnertime\; Comfort Classics\, Freezer Food\, 16-Minute Meals\, and Other Delicious Ways to Solve Supper&quot\;. Choose a recipe and bring a sample to share with 10-12 people. The evening is a delicious way to try lots of recipes\, find one you like\, and make some new friends.
LOCATION:Granville Public Library
UID:e.180.11980
SEQUENCE:3
DTSTAMP:20260421T100503Z
URL:http://business.granvilleoh.com/events/details/granville-s-test-kitchen-11980
END:VEVENT

END:VCALENDAR
