BEGIN:VCALENDAR
VERSION:2.0
PRODID:-//ChamberMaster//Event Calendar 2.0//EN
METHOD:PUBLISH
X-PUBLISHED-TTL:P3D
REFRESH-INTERVAL:P3D
CALSCALE:GREGORIAN
BEGIN:VEVENT
DTSTART:20180809T223000Z
DTEND:20180809T233000Z
X-MICROSOFT-CDO-ALLDAYEVENT:FALSE
SUMMARY:Granville's Test Kitchen: Lunchbox Edition
DESCRIPTION:Get ready for a new school year with this special "Lunchbox Edition" of Granville's Test Kitchen. We'll be cooking from Catherine McCord's "Weelicious Lunches: Think Outside the Lunch Box with more than 160 Happier Meals". This cookbook provides easy\, healthy lunchbox options for all ages. Choose a recipe and bring a sample to share with 10-12 people. The evening is a delicious way to try lots of recipes\, find one you like\, and make some new friends. Feel free to join our Facebook Group\, Granville's Test Kitchen Cookbook Club\, to ask questions\, discuss experiences\, and share what you plan to bring. While variety is nice\, please feel free to bring a duplicate recipe if its something you want to try!
X-ALT-DESC;FMTTYPE=text/html:Get ready for a new school year with this special &quot\;Lunchbox Edition&quot\; of Granville&#39\;s Test Kitchen. We&#39\;ll be cooking from Catherine McCord&#39\;s &quot\;Weelicious Lunches: Think Outside the Lunch Box with more than 160 Happier Meals&quot\;. This cookbook provides easy\, healthy lunchbox options for all ages. Choose a recipe and bring a sample to share with 10-12 people. The evening is a delicious way to try lots of recipes\, find one you like\, and make some new friends. Feel free to join our Facebook Group\, Granville&#39\;s Test Kitchen Cookbook Club\, to ask questions\, discuss experiences\, and share what you plan to bring. While variety is nice\, please feel free to bring a duplicate recipe if its something you want to try!
LOCATION:Granville Public Library
UID:e.180.12080
SEQUENCE:3
DTSTAMP:20260419T193250Z
URL:http://business.granvilleoh.com/events/details/granville-s-test-kitchen-lunchbox-edition-12080
END:VEVENT

END:VCALENDAR
