BEGIN:VCALENDAR
VERSION:2.0
PRODID:-//ChamberMaster//Event Calendar 2.0//EN
METHOD:PUBLISH
X-PUBLISHED-TTL:P3D
REFRESH-INTERVAL:P3D
CALSCALE:GREGORIAN
BEGIN:VEVENT
DTSTART:20180628T180000Z
DTEND:20180628T193000Z
X-MICROSOFT-CDO-ALLDAYEVENT:FALSE
SUMMARY:Green Screen Music Scene
DESCRIPTION:Photographer Liz Argyle will be here to teach you how to rock reality with the basics of green screen photography. Rising 7th through 12th grade students welcome!
X-ALT-DESC;FMTTYPE=text/html:Photographer Liz Argyle will be here to teach you how to rock reality with the basics of green screen photography. Rising 7th through 12th grade students welcome!
LOCATION:Granville Public Library
UID:e.180.12031
SEQUENCE:3
DTSTAMP:20260419T153233Z
URL:http://business.granvilleoh.com/events/details/green-screen-music-scene-12031
END:VEVENT

END:VCALENDAR
