BEGIN:VCALENDAR
VERSION:2.0
PRODID:-//ChamberMaster//Event Calendar 2.0//EN
METHOD:PUBLISH
X-PUBLISHED-TTL:P3D
REFRESH-INTERVAL:P3D
CALSCALE:GREGORIAN
BEGIN:VEVENT
DTSTART:20191023T233000Z
DTEND:20191024T010000Z
X-MICROSOFT-CDO-ALLDAYEVENT:FALSE
SUMMARY:Guest recital with pianist Mary Vanhoozer
DESCRIPTION:The Denison Department of Music presents a guest recital with pianist Mary Vanhoozer.
X-ALT-DESC;FMTTYPE=text/html:<span style="color:rgb(0\, 0\, 0)\; font-family:arial\; font-size:11pt">The Denison Department of Music presents a g</span><span style="background-color:transparent\; color:rgb(0\, 0\, 0)\; font-family:arial\; font-size:11pt">uest recital with pianist Mary Vanhoozer.</span>
LOCATION:Denison University Burke Recital Hall of the Michael D. Eisner Center for the Performing Arts 240 West Broadway
UID:e.180.12877
SEQUENCE:3
DTSTAMP:20260422T131652Z
URL:http://business.granvilleoh.com/events/details/guest-recital-with-pianist-mary-vanhoozer-12877
END:VEVENT

END:VCALENDAR
