BEGIN:VCALENDAR
VERSION:2.0
PRODID:-//ChamberMaster//Event Calendar 2.0//EN
METHOD:PUBLISH
X-PUBLISHED-TTL:P3D
REFRESH-INTERVAL:P3D
CALSCALE:GREGORIAN
BEGIN:VEVENT
DTSTART:20190208T000000Z
DTEND:20190208T010000Z
X-MICROSOFT-CDO-ALLDAYEVENT:FALSE
SUMMARY:Harry Potter Night
DESCRIPTION:Potterheads- Apparate to the library and join us for Harry Potter games and activities! Grades 7-12 welcome!
X-ALT-DESC;FMTTYPE=text/html:Potterheads- Apparate to the library and join us for Harry Potter games and activities! Grades 7-12 welcome!
LOCATION:Granville Public Library
UID:e.180.12427
SEQUENCE:3
DTSTAMP:20260420T022550Z
URL:http://business.granvilleoh.com/events/details/harry-potter-night-12427
END:VEVENT

END:VCALENDAR
