BEGIN:VCALENDAR
VERSION:2.0
PRODID:-//ChamberMaster//Event Calendar 2.0//EN
METHOD:PUBLISH
X-PUBLISHED-TTL:P3D
REFRESH-INTERVAL:P3D
CALSCALE:GREGORIAN
BEGIN:VEVENT
DTSTART:20180611T170000Z
DTEND:20180611T180000Z
X-MICROSOFT-CDO-ALLDAYEVENT:FALSE
SUMMARY:Hip Hop Dancing For Kids
DESCRIPTION:Have fun learning hip-hop dance steps from Dance Tonight Columbus instructor\, Cassandra Marsh. Registration required. Each class is limited to 15 participants. This June 11 session is for children in Grades K to 3. The June 12 session is for children in Grades 4 to 6.
X-ALT-DESC;FMTTYPE=text/html:Have fun learning hip-hop dance steps from Dance Tonight Columbus instructor\, Cassandra Marsh. Registration required. Each class is limited to 15 participants. This June 11 session is for children in Grades K to 3. The June 12 session is for children in Grades 4 to 6.
LOCATION:Granville Public Library
UID:e.180.11993
SEQUENCE:3
DTSTAMP:20260419T153333Z
URL:http://business.granvilleoh.com/events/details/hip-hop-dancing-for-kids-11993
END:VEVENT

END:VCALENDAR
