BEGIN:VCALENDAR
VERSION:2.0
PRODID:-//ChamberMaster//Event Calendar 2.0//EN
METHOD:PUBLISH
X-PUBLISHED-TTL:P3D
REFRESH-INTERVAL:P3D
CALSCALE:GREGORIAN
BEGIN:VEVENT
DTSTART:20191130T200000Z
DTEND:20191130T220000Z
X-MICROSOFT-CDO-ALLDAYEVENT:FALSE
SUMMARY:Holiday Tinkercad for Teens & Tweens
DESCRIPTION:Drop by to learn how to use Tinkercad to create a one of kind holiday ornament. Register at Granvillelibrary.org/calendar. For grades 4-12.
X-ALT-DESC;FMTTYPE=text/html:Drop by to learn how to use Tinkercad to create a one of kind holiday ornament. Register at Granvillelibrary.org/calendar. For grades 4-12.
LOCATION:Granville Public Library
UID:e.180.13944
SEQUENCE:3
DTSTAMP:20260422T144538Z
URL:http://business.granvilleoh.com/events/details/holiday-tinkercad-for-teens-tweens-13944
END:VEVENT

END:VCALENDAR
