BEGIN:VCALENDAR
VERSION:2.0
PRODID:-//ChamberMaster//Event Calendar 2.0//EN
METHOD:PUBLISH
X-PUBLISHED-TTL:P3D
REFRESH-INTERVAL:P3D
CALSCALE:GREGORIAN
BEGIN:VEVENT
DTSTART:20191112T150000Z
DTEND:20191112T170000Z
X-MICROSOFT-CDO-ALLDAYEVENT:FALSE
SUMMARY:Home Instead Senior Care's Ribbon Cutting and Open House
DESCRIPTION:Please join us to celebrate the grand opening of our new office building at 1718 Columbus Road in Granville and the 15th Anniversary of our franchise on Tuesday\, November 12th. The celebration will begin with the Ribbon Cutting at 10:00 AM. An Open House will follow until 12:00 PM. We hope to see you!
X-ALT-DESC;FMTTYPE=text/html:<span style="color:rgb(28\, 30\, 33)\; font-family:system-ui\,-apple-system\,system-ui\,.sfnstext-regular\,sans-serif\; font-size:12px">Please join us to celebrate the grand opening of our new office building at 1718 Columbus Road in Granville and the 15th Anniversary of our franchise on Tuesday\, November 12th. The celebration will begin with the Ribbon Cutting at 10:00 AM. An Open House will follow until 12:00 PM. </span>We hope to see you!
LOCATION:1718 Columbus Road\, Granville\, Ohio 43023
UID:e.180.13945
SEQUENCE:3
DTSTAMP:20260422T144511Z
URL:http://business.granvilleoh.com/events/details/home-instead-senior-care-s-ribbon-cutting-and-open-house-13945
END:VEVENT

END:VCALENDAR
