BEGIN:VCALENDAR
VERSION:2.0
PRODID:-//ChamberMaster//Event Calendar 2.0//EN
METHOD:PUBLISH
X-PUBLISHED-TTL:P3D
REFRESH-INTERVAL:P3D
CALSCALE:GREGORIAN
BEGIN:VEVENT
DTSTART:20191001T200000Z
DTEND:20191001T220000Z
X-MICROSOFT-CDO-ALLDAYEVENT:FALSE
SUMMARY:Homework Hangout
DESCRIPTION:Need a place to study? Have questions about a research project? Bring your homework and study at the library. Grades K-6.
X-ALT-DESC;FMTTYPE=text/html:Need a place to study? Have questions about a research project? Bring your homework and study at the library. Grades K-6.
LOCATION:Granville Public Library
UID:e.180.12826
SEQUENCE:3
DTSTAMP:20260422T132401Z
URL:http://business.granvilleoh.com/events/details/homework-hangout-10-01-2019-12826
END:VEVENT

END:VCALENDAR
