BEGIN:VCALENDAR
VERSION:2.0
PRODID:-//ChamberMaster//Event Calendar 2.0//EN
METHOD:PUBLISH
X-PUBLISHED-TTL:P3D
REFRESH-INTERVAL:P3D
CALSCALE:GREGORIAN
BEGIN:VEVENT
DTSTART:20191203T210000Z
DTEND:20191203T230000Z
X-MICROSOFT-CDO-ALLDAYEVENT:FALSE
SUMMARY:Homework Hangout
DESCRIPTION:Need a place to study? Have questions about research for a project? Denison students will be on hand to help. For grades K-6
X-ALT-DESC;FMTTYPE=text/html:Need a place to study? Have questions about research for a project? Denison students will be on hand to help. For grades K-6
LOCATION:Granville Public Library- upper level
UID:e.180.13950
SEQUENCE:3
DTSTAMP:20260422T161002Z
URL:http://business.granvilleoh.com/events/details/homework-hangout-12-03-2019-13950
END:VEVENT

END:VCALENDAR
