BEGIN:VCALENDAR
VERSION:2.0
PRODID:-//ChamberMaster//Event Calendar 2.0//EN
METHOD:PUBLISH
X-PUBLISHED-TTL:P3D
REFRESH-INTERVAL:P3D
CALSCALE:GREGORIAN
BEGIN:VEVENT
DTSTART:20191121T003000Z
DTEND:20191121T013000Z
X-MICROSOFT-CDO-ALLDAYEVENT:FALSE
SUMMARY:'How to Design and Pay for A Green New Deal'
DESCRIPTION:Economist Fadhel Kaboub\, Denison University associate professor of economics\, gives a talk\, "How to Design and Pay for A Green New Deal."\nKaboub will discuss the actual design and financing involved with a Green New Deal\, a congressional resolution that lays out a grand plan for tackling climate change. Denison alum Allen Schwartz will perform his Green New Deal song.\n\n The event is sponsored by The Department of Economics\, Educational Studies\, Black Studies and The Office of Sustainability.
X-ALT-DESC;FMTTYPE=text/html:<span style="background-color:transparent\; color:rgb(0\, 0\, 0)\; font-family:arial\; font-size:11pt">Economist Fadhel Kaboub\, Denison University associate professor of economics\, gives a talk\, &quot\;How to Design and Pay for A Green New Deal.&rdquo\;</span>\n<p><span style="color:rgb(0\, 0\, 0)\; font-family:arial\; font-size:11pt">Kaboub will discuss the actual design and financing involved with a Green New Deal\, a congressional resolution that lays out a grand plan for tackling climate change. Denison alum Allen Schwartz will perform his Green New Deal song.</span></p>\n\n<p><span style="color:rgb(80\, 0\, 80)\; font-family:arial\; font-size:12pt">&nbsp\;</span><span style="color:rgb(0\, 0\, 0)\; font-family:arial\; font-size:11pt">The event is sponsored by The Department of Economics\, Educational Studies\, Black Studies and The Office of Sustainability.</span></p>\n\n<div>&nbsp\;</div>\n
LOCATION:Denison University Higley Hall 100 Ridge Road
UID:e.180.13932
SEQUENCE:3
DTSTAMP:20260422T144629Z
URL:http://business.granvilleoh.com/events/details/how-to-design-and-pay-for-a-green-new-deal-13932
END:VEVENT

END:VCALENDAR
