BEGIN:VCALENDAR
VERSION:2.0
PRODID:-//ChamberMaster//Event Calendar 2.0//EN
METHOD:PUBLISH
X-PUBLISHED-TTL:P3D
REFRESH-INTERVAL:P3D
CALSCALE:GREGORIAN
BEGIN:VEVENT
DTSTART:20190912T154500Z
DTEND:20190912T171500Z
X-MICROSOFT-CDO-ALLDAYEVENT:FALSE
SUMMARY:Humanities and Social Sciences Summer Scholar Presentation
DESCRIPTION:Research posters by summer scholars in the humanities and social sciences.
X-ALT-DESC;FMTTYPE=text/html:<div>\n<div>\n<div>\n<div>\n<div>\n<div>\n<div>\n<div>\n<p>Research posters by summer scholars in the humanities and social sciences.</p>\n\n<div>&nbsp\;</div>\n</div>\n</div>\n</div>\n</div>\n</div>\n</div>\n</div>\n</div>\n
LOCATION:Denison University Mitchell Recreation and Athletics Center 200 Livingston Drive
UID:e.180.12713
SEQUENCE:3
DTSTAMP:20260422T115432Z
URL:http://business.granvilleoh.com/events/details/humanities-and-social-sciences-summer-scholar-presentation-12713
END:VEVENT

END:VCALENDAR
